BEGIN:VCALENDAR
PRODID:-//AT Content Types//AT Event//EN
VERSION:1.0
BEGIN:VEVENT
DTSTART:20170421T073000Z
DTEND:20170421T120000Z
DCREATED:20170329T070721Z
UID:ATEvent-9c0f91f305e248f0a360812a04748bc9
SEQUENCE:0
LAST-MODIFIED:20170329T070721Z
SUMMARY:Terrorismo e antiterrorismo. L'Italia e la circolazione internazionale dei saperi negli anni Settanta e Ottanta
LOCATION:Palazzo Bonacossi\, via Cisterna del Follo 5\, Ferrara
PRIORITY:3
TRANSP:0
END:VEVENT
END:VCALENDAR
