BEGIN:VCALENDAR
PRODID:-//AT Content Types//AT Event//EN
VERSION:2.0
METHOD:PUBLISH
BEGIN:VEVENT
DTSTAMP:20260419T142557Z
CREATED:20190304T132904Z
UID:ATEvent-a2b9d615677844f6b21a0a2426938f32
LAST-MODIFIED:20190304T132930Z
SUMMARY:Talking About Blog & Social Media in Archaeology
DTSTART:20190305T151500Z
DTEND:20190305T170000Z
DESCRIPTION:Seminario della dott.ssa Antonia Falcone\, Archeologa.
LOCATION:Polo degli Adelardi\, via degli Adelardi Ferrara
CLASS:PUBLIC
END:VEVENT
END:VCALENDAR
