BEGIN:VCALENDAR
PRODID:-//AT Content Types//AT Event//EN
VERSION:2.0
METHOD:PUBLISH
BEGIN:VEVENT
DTSTAMP:20260419T142557Z
CREATED:20190504T084449Z
UID:ATEvent-128f2366386f47b18b344ba043198212
LAST-MODIFIED:20190504T084450Z
SUMMARY:Spazi pubblici\, rituali e azioni nelle città greche e romane
DTSTART:20190510T080000Z
DTEND:20190510T100000Z
DESCRIPTION:Seminario del Professore Emerito Tonio Hölscher (Ruprecht
 -Karls-Universität\, Heidelberg)
LOCATION:Aula Magna\, Palazzo Turchi di Bagno - C.so Ercole I d'Este 32\, Ferrara
CLASS:PUBLIC
END:VEVENT
END:VCALENDAR
