BEGIN:VCALENDAR
PRODID:-//AT Content Types//AT Event//EN
VERSION:2.0
METHOD:PUBLISH
BEGIN:VEVENT
DTSTAMP:20260419T140756Z
CREATED:20171204T082236Z
UID:ATEvent-e9e2f5ac41da482495d6ab84b060aacf
LAST-MODIFIED:20171204T082236Z
SUMMARY:Socialismo liberale
DTSTART:20171205T160000Z
DTEND:20171205T173000Z
LOCATION:Sala Agnelli\, Bibllioteca Comunale Ariostea\, Ferrara
CLASS:PUBLIC
END:VEVENT
END:VCALENDAR
