BEGIN:VCALENDAR
PRODID:-//AT Content Types//AT Event//EN
VERSION:2.0
METHOD:PUBLISH
BEGIN:VEVENT
DTSTAMP:20260419T141534Z
CREATED:20181116T093632Z
UID:ATEvent-948fce2e64e441edb074908a802ba9ec
LAST-MODIFIED:20181116T093633Z
SUMMARY:Sesta giornata della Storia
DTSTART:20181206T080000Z
DTEND:20181206T170000Z
LOCATION:Palazzo Bonacossi\, via Cisterna del Follo 5
CLASS:PUBLIC
END:VEVENT
END:VCALENDAR
