BEGIN:VCALENDAR
PRODID:-//AT Content Types//AT Event//EN
VERSION:2.0
METHOD:PUBLISH
BEGIN:VEVENT
DTSTAMP:20260419T140847Z
CREATED:20171030T130753Z
UID:ATEvent-f180ac391bd04d4785abf9d4a6b59ce6
LAST-MODIFIED:20171030T130754Z
SUMMARY:Quinta giornata della Storia
DTSTART:20171124T080000Z
DTEND:20171124T170000Z
LOCATION:Palazzo Bonacossi\, via Cisterna del Follo 5 - Ferrara
CLASS:PUBLIC
END:VEVENT
END:VCALENDAR
