BEGIN:VCALENDAR
PRODID:-//AT Content Types//AT Event//EN
VERSION:2.0
METHOD:PUBLISH
BEGIN:VEVENT
DTSTAMP:20260419T140913Z
CREATED:20161108T145659Z
UID:ATEvent-447bc128e7ff43e9a886c2ef4f24bdc3
LAST-MODIFIED:20161108T145700Z
SUMMARY:Quarta giornata della Storia
DTSTART:20161124T090000Z
DTEND:20161124T183000Z
LOCATION:Aula Magna IUSS\, via delle Scienze 41/B\, Ferrara
CLASS:PUBLIC
END:VEVENT
END:VCALENDAR
