BEGIN:VCALENDAR
PRODID:-//AT Content Types//AT Event//EN
VERSION:2.0
METHOD:PUBLISH
BEGIN:VEVENT
DTSTAMP:20260419T142135Z
CREATED:20171207T153253Z
UID:ATEvent-8ef328513cd342d18ca154eb7cd55a4a
LAST-MODIFIED:20171207T153324Z
SUMMARY:Paleografia latina - ciclo di seminari
DTSTART:20171213T090000Z
DTEND:20171215T130000Z
LOCATION:Dipartimento di Studi Umanistici\, via Paradiso 12\, Ferrara
CLASS:PUBLIC
END:VEVENT
END:VCALENDAR
