BEGIN:VCALENDAR
PRODID:-//AT Content Types//AT Event//EN
VERSION:1.0
BEGIN:VEVENT
DTSTART:20180510T081500Z
DTEND:20180510T100000Z
DCREATED:20180503T072843Z
UID:ATEvent-ae5c281e442f40febbd3ca0a41f708e4
SEQUENCE:0
LAST-MODIFIED:20180503T072844Z
SUMMARY:Originale e copia nel mondo antico: storia di un paradigma interpretativo
LOCATION:Stanza 1C\, Palazzo Turchi di Bagno\, c.so Ercole I d'Este 32\, Ferrara
PRIORITY:3
TRANSP:0
END:VEVENT
END:VCALENDAR
