BEGIN:VCALENDAR
PRODID:-//AT Content Types//AT Event//EN
VERSION:1.0
BEGIN:VEVENT
DTSTART:20190920T073000Z
DTEND:20190920T110000Z
DCREATED:20190913T092033Z
UID:ATEvent-09576ce4cc9c4b76ba5d5f7b7215d80d
SEQUENCE:0
LAST-MODIFIED:20190913T092034Z
SUMMARY:Musei in bilico?
DESCRIPTION:Riforma o controriforma? Quali orizzonti per il sistema mu
 seale nazionale?
LOCATION:Ferrara Fiere - Sala Oceania\, Pad. 5
PRIORITY:3
TRANSP:0
END:VEVENT
END:VCALENDAR
