BEGIN:VCALENDAR
PRODID:-//AT Content Types//AT Event//EN
VERSION:1.0
BEGIN:VEVENT
DTSTART:20180514T121500Z
DTEND:20180514T140000Z
DCREATED:20180514T071556Z
UID:ATEvent-e5618be6d07a420692a71b8327552ce4
SEQUENCE:0
LAST-MODIFIED:20180514T071557Z
SUMMARY:L'iconografia antisemita nell'Italia fascista
DESCRIPTION:Prof.ssa Paola Salvatori (Scuola Normale Superiore\, Pisa)
 
LOCATION:Aula Magna Drigo\, Dipartimento di Studi umanistici - Via Paradiso 12\, Ferrara
PRIORITY:3
TRANSP:0
END:VEVENT
END:VCALENDAR
