BEGIN:VCALENDAR
PRODID:-//AT Content Types//AT Event//EN
VERSION:1.0
BEGIN:VEVENT
DTSTART:20191015T143000Z
DTEND:20191015T163000Z
DCREATED:20191011T075500Z
UID:ATEvent-49a45dc6874a4dc3a47d34544a814764
SEQUENCE:0
LAST-MODIFIED:20191011T075501Z
SUMMARY:L'Honneur perdu de FranÃ§ois Ier\, Pavie\, 1525
DESCRIPTION:Presentazione del volume di Jean-Marie Le Gall (UniversitÃ
   Paris 1 Sorbonne PanthÃ©on)\n\nNe parleranno con l'autore Paolo Bito
 ssi (UniversitÃ  di Ferrara)\, Giovanni Ricci (UniversitÃ  di Ferrara)
 
LOCATION:Palazzo Bonacossi\, via Cisterna del Follo 5\, Ferrara
PRIORITY:3
TRANSP:0
END:VEVENT
END:VCALENDAR
