BEGIN:VCALENDAR
PRODID:-//AT Content Types//AT Event//EN
VERSION:2.0
METHOD:PUBLISH
BEGIN:VEVENT
DTSTAMP:20260419T142806Z
CREATED:20171023T095300Z
UID:ATEvent-fc9ffec038b84975bcd1cd4c782a79c6
LAST-MODIFIED:20171023T095300Z
SUMMARY:La rivoluzione nelle arti e nei linguaggi
DTSTART:20171107T160000Z
DTEND:20171107T180000Z
LOCATION:Sala Conferenze\, Istituto di Storia Contemporanea - vicolo santo Spirito 11\, Ferrara
CLASS:PUBLIC
END:VEVENT
END:VCALENDAR
