BEGIN:VCALENDAR
PRODID:-//AT Content Types//AT Event//EN
VERSION:1.0
BEGIN:VEVENT
DTSTART:20161020T133000Z
DTEND:20161104T225500Z
DCREATED:20161020T133915Z
UID:ATEvent-2d45dd255ef242e68166641a6f04399b
SEQUENCE:0
LAST-MODIFIED:20161020T133916Z
SUMMARY:La Campania antica fra epigrafia\, archeologia e storia
DESCRIPTION:Giornata di Studio\, 4 novembre 2016 dalle ore 10 alle ore
  18
LOCATION:Aula Magna IUSS\, via delle Scienze 41/B
PRIORITY:3
TRANSP:0
END:VEVENT
END:VCALENDAR
