BEGIN:VCALENDAR
PRODID:-//AT Content Types//AT Event//EN
VERSION:2.0
METHOD:PUBLISH
BEGIN:VEVENT
DTSTAMP:20260419T142940Z
CREATED:20170301T092119Z
UID:ATEvent-37fc20d75a0c4b11a5898606238c8736
LAST-MODIFIED:20170301T092122Z
SUMMARY:L'«empia alleanza» franco-ottomana e gli Stati italiani
DTSTART:20170306T131500Z
DTEND:20170306T150000Z
LOCATION:Aula F - Dipartimento di Studi Umanistici\, via Paradiso 12
CLASS:PUBLIC
END:VEVENT
END:VCALENDAR
