BEGIN:VCALENDAR
PRODID:-//AT Content Types//AT Event//EN
VERSION:1.0
BEGIN:VEVENT
DTSTART:20190606T073000Z
DTEND:20190623T170000Z
DCREATED:20190523T161919Z
UID:ATEvent-ebbb18dd347044a591365a2a5c6fa6e1
SEQUENCE:0
LAST-MODIFIED:20190523T161919Z
SUMMARY:Incontrarsi al limite
DESCRIPTION:Ibridazioni mediterranee nell'Italia preromana - Convegno 
 internazionale
LOCATION:Palazzo Bevilacqua-Costabili\, via Voltapaletto 11\, Ferrara
PRIORITY:3
TRANSP:0
END:VEVENT
END:VCALENDAR
