BEGIN:VCALENDAR
PRODID:-//AT Content Types//AT Event//EN
VERSION:2.0
METHOD:PUBLISH
BEGIN:VEVENT
DTSTAMP:20260419T142643Z
CREATED:20181017T130325Z
UID:ATEvent-ce399054a7ca4210b9798371d127e9c4
LAST-MODIFIED:20181017T130325Z
SUMMARY:Il ruolo della violenza nella scuola del Rinascimento
DTSTART:20181023T140000Z
DTEND:20181023T160000Z
LOCATION:Aula I - Dipartimento di Studi umanistici\, via Paradiso 12\, Ferrara
CONTACT:Enrica Guerra\, 0532293504\, enrica.guerra@unife.it
CLASS:PUBLIC
END:VEVENT
END:VCALENDAR
