BEGIN:VCALENDAR
PRODID:-//AT Content Types//AT Event//EN
VERSION:1.0
BEGIN:VEVENT
DTSTART:20170322T130000Z
DTEND:20170322T160000Z
DCREATED:20170320T085005Z
UID:ATEvent-99acb7f4737d44348be018d92b8ddb2e
SEQUENCE:0
LAST-MODIFIED:20170320T085010Z
SUMMARY:Il patrimonio culturale si svela: le biblioteche dell'Università fra didattica\, ricerca e nuove opportunità
LOCATION:Salone del Restauro\, Sala Ariostea\, pad. 5
PRIORITY:3
TRANSP:0
END:VEVENT
END:VCALENDAR
