BEGIN:VCALENDAR
PRODID:-//AT Content Types//AT Event//EN
VERSION:1.0
BEGIN:VEVENT
DTSTART:20190314T130000Z
DTEND:20190314T150000Z
DCREATED:20190304T082444Z
UID:ATEvent-8c1f1b96fc5d4c12abc3dca1241a09c5
SEQUENCE:0
LAST-MODIFIED:20190304T082446Z
SUMMARY:Il patrimonio archeologico fra conoscenza\, tutela e partecipazione
DESCRIPTION:Seminario del Prof. Daniele Manacorda (Università degli S
 tudi di Roma Tre)
LOCATION:Aula Magna\, C.so Ercole I d'Este 32\, Ferrara
PRIORITY:3
TRANSP:0
END:VEVENT
END:VCALENDAR
