BEGIN:VCALENDAR
PRODID:-//AT Content Types//AT Event//EN
VERSION:1.0
BEGIN:VEVENT
DTSTART:20181210T100000Z
DTEND:20181212T120000Z
DCREATED:20181128T140612Z
UID:ATEvent-5b923071b5e04b119dd12197575f0e67
SEQUENCE:0
LAST-MODIFIED:20181128T140634Z
SUMMARY:III seminario di Paleografia latina
LOCATION:Aula L\, Dipartimento di Studi umanistici\, via Paradiso 12\, Ferrara
PRIORITY:3
TRANSP:0
END:VEVENT
END:VCALENDAR
