BEGIN:VCALENDAR
PRODID:-//AT Content Types//AT Event//EN
VERSION:2.0
METHOD:PUBLISH
BEGIN:VEVENT
DTSTAMP:20260419T143101Z
CREATED:20170919T075732Z
UID:ATEvent-d4a1476548a24f09950e44a36eec273e
LAST-MODIFIED:20170919T075732Z
SUMMARY:I molti territori della Repubblica fascista. Amministrazione e società nella RSI
DTSTART:20170927T123000Z
DTEND:20170928T180000Z
LOCATION:Aula Magna - Dipartimento di Economia e Management - via Voltapaletto 11\, Ferrara
CLASS:PUBLIC
END:VEVENT
END:VCALENDAR
