BEGIN:VCALENDAR
PRODID:-//AT Content Types//AT Event//EN
VERSION:2.0
METHOD:PUBLISH
BEGIN:VEVENT
DTSTAMP:20260419T142822Z
CREATED:20170404T150953Z
UID:ATEvent-d74ba1b0dcc54092a3ad95711a512f20
LAST-MODIFIED:20170404T150953Z
SUMMARY:I Fasti di Privernum e l'esordio politico di Ottaviano
DTSTART:20170505T141500Z
DTEND:20170505T170000Z
LOCATION:Dipartimento di Studi Umanistici\, via Paradiso 12
CLASS:PUBLIC
END:VEVENT
END:VCALENDAR
