BEGIN:VCALENDAR
PRODID:-//AT Content Types//AT Event//EN
VERSION:2.0
METHOD:PUBLISH
BEGIN:VEVENT
DTSTAMP:20260419T140719Z
CREATED:20180522T142435Z
UID:ATEvent-edef6bf91ffb4ef2bc10f21ebb283036
LAST-MODIFIED:20180522T142436Z
SUMMARY:I confini di Roma
DTSTART:20180531T140000Z
DTEND:20180602T110000Z
DESCRIPTION:Workshop - Giornata di Studi - Visita al Museo Archeologic
 o Nazionale di Ferrara
LOCATION:Dipartimento di Studi Umanistici\, via Paradiso 12\, e Palazzo Bonacossi\, via Cisterna del Follo 5 - Ferrara
CLASS:PUBLIC
END:VEVENT
END:VCALENDAR
