BEGIN:VCALENDAR
PRODID:-//AT Content Types//AT Event//EN
VERSION:1.0
BEGIN:VEVENT
DTSTART:20190412T150000Z
DTEND:20190412T173000Z
DCREATED:20190412T074801Z
UID:ATEvent-445b5c5f8fb84e0f85d0bffaf5705ee2
SEQUENCE:0
LAST-MODIFIED:20190412T074805Z
SUMMARY:Fondo Famiglia Paolo Balbo: nuovi percorsi di ricerca
LOCATION:Sala Conferenze\, Istituto di Storia contemporanea\, via S. Spirito 11\, Ferrara
PRIORITY:3
TRANSP:0
END:VEVENT
END:VCALENDAR
