BEGIN:VCALENDAR
PRODID:-//AT Content Types//AT Event//EN
VERSION:1.0
BEGIN:VEVENT
DTSTART:20171212T160000Z
DTEND:20171212T180000Z
DCREATED:20171023T095703Z
UID:ATEvent-aa773bdf1b75435d8679ff8bba076a8f
SEQUENCE:0
LAST-MODIFIED:20171023T095736Z
SUMMARY:Fare come in Russia
LOCATION:Sale Conferenze\, Istituto di Storia contemporanea - vicolo di santo Spirito 11\, Ferrara
PRIORITY:3
TRANSP:0
END:VEVENT
END:VCALENDAR
