BEGIN:VCALENDAR
PRODID:-//AT Content Types//AT Event//EN
VERSION:1.0
BEGIN:VEVENT
DTSTART:20181022T101500Z
DTEND:20181022T120000Z
DCREATED:20181017T130123Z
UID:ATEvent-c53885a3693941e0991157febbd5835d
SEQUENCE:0
LAST-MODIFIED:20181017T130124Z
SUMMARY:Educate alla guerra. Donne cavaliere nel Rinascimento italiano
LOCATION:Aula I - Dipartimento di Studi Umanistici\, via Paradiso 12\, Ferrara
PRIORITY:3
TRANSP:0
END:VEVENT
END:VCALENDAR
