BEGIN:VCALENDAR
PRODID:-//AT Content Types//AT Event//EN
VERSION:2.0
METHOD:PUBLISH
BEGIN:VEVENT
DTSTAMP:20260419T141825Z
CREATED:20180417T091210Z
UID:ATEvent-3c23e42a2d0e4a9e8165dc92fe39bca7
LAST-MODIFIED:20180417T091234Z
SUMMARY:Descrizione e catalogazione di manoscritti
DTSTART:20180423T083000Z
DTEND:20180423T110000Z
DESCRIPTION:Lezione del prof. Sandro Bertelli (Università di Ferrara)
  presso la Biblioteca Universitaria di Padova. Possono partecipare stu
 denti\, laureandi e interessati.
LOCATION:Biblioteca Universitaria di Padova - Padova
CONTACT:Sandro Bertelli\, sandro.bertelli@unife.it
CLASS:PUBLIC
END:VEVENT
END:VCALENDAR
