BEGIN:VCALENDAR
PRODID:-//AT Content Types//AT Event//EN
VERSION:1.0
BEGIN:VEVENT
DTSTART:20191021T140000Z
DTEND:20191021T170000Z
DCREATED:20191017T150432Z
UID:ATEvent-a9308121bd72429ebfee652565c745c0
SEQUENCE:0
LAST-MODIFIED:20191017T150623Z
SUMMARY:Constructing and Deconstructing Past and Present Identities
LOCATION:Aula Magna\, Palazzo Turchi di Bagno\, C.so Porta Mare 2\, Ferrara
PRIORITY:3
TRANSP:0
END:VEVENT
END:VCALENDAR
