BEGIN:VCALENDAR
PRODID:-//AT Content Types//AT Event//EN
VERSION:2.0
METHOD:PUBLISH
BEGIN:VEVENT
DTSTAMP:20260419T142806Z
CREATED:20180522T122749Z
UID:ATEvent-9a86275c4d4d463bb1885655c26454fd
LAST-MODIFIED:20180522T122751Z
SUMMARY:Archeologia\, territorio\, ambiente\, identità\, comunità: il museo Delta antico di Comacchio
DTSTART:20180530T081500Z
DTEND:20180530T100000Z
DESCRIPTION:Il valore socio-culturale del Museo Delta antico di Comacc
 hio. Ne parleranno la Dott.ssa Caterina Cornelio (Direttrice del Museo
  Delta antico)\, il Dott. Roberto Cantagalli (Dirigente del Settore Se
 rvizi alla Persona\, Politiche educative e Istituti culturali del Comu
 ne di Comacchio)
LOCATION:Aula 1C\, Dipartimento di Studi umanistici\, c.so Ercole I d'Este 32\, Ferrara
CLASS:PUBLIC
END:VEVENT
END:VCALENDAR
