BEGIN:VCALENDAR
PRODID:-//AT Content Types//AT Event//EN
VERSION:1.0
BEGIN:VEVENT
DTSTART:20171025T150000Z
DTEND:20171025T180000Z
DCREATED:20171016T073436Z
UID:ATEvent-7adf27c2c38e49fb81d2d92cdbe91b0c
SEQUENCE:0
LAST-MODIFIED:20171016T073437Z
SUMMARY:1917-2017 La Rivoluzione d'Ottobre tra mito e realtà
LOCATION:Istituto di Storia contemporanea\, via santo Spirito 11\, Ferrara
PRIORITY:3
TRANSP:0
END:VEVENT
END:VCALENDAR
