BEGIN:VCALENDAR
PRODID:-//AT Content Types//AT Event//EN
VERSION:2.0
METHOD:PUBLISH
BEGIN:VEVENT
DTSTAMP:20260419T154256Z
CREATED:20180517T082614Z
UID:ATEvent-4efd1da2c67246e2a04039b78c10b1f8
LAST-MODIFIED:20180517T082615Z
SUMMARY:Visual Ethnography and Urban Studies
DTSTART:20180523T093000Z
DTEND:20180524T170000Z
DESCRIPTION:Il Laboratorio di Studi Urbani invita al primo seminario d
 i studi sull'Antropologia visuale che studia la città. Speriamo che s
 ia l'inizio di un lungo percorso di studi e di ricerca inclusivo e ape
 rto a tutti e a tutte coloro che lavorano su questi temi.
LOCATION:Auditorium Santa Lucia\, Via Ariosto 35
CLASS:PUBLIC
END:VEVENT
END:VCALENDAR
