BEGIN:VCALENDAR
PRODID:-//AT Content Types//AT Event//EN
VERSION:2.0
METHOD:PUBLISH
BEGIN:VEVENT
DTSTAMP:20260419T154743Z
CREATED:20180801T150627Z
UID:ATEvent-f11a7880c1c046af867d1b0499bfa150
LAST-MODIFIED:20180801T150628Z
SUMMARY:Tutela\, diritti e protezione dei minori - Master a distanza 2017 / 2018
DTSTART:20180801T145500Z
DTEND:20180926T215500Z
CONTACT:mastertutelaminori@unife.it
CLASS:PUBLIC
END:VEVENT
END:VCALENDAR
