BEGIN:VCALENDAR
PRODID:-//AT Content Types//AT Event//EN
VERSION:1.0
BEGIN:VEVENT
DTSTART:20181022T141500Z
DTEND:20181022T170000Z
DCREATED:20181017T094157Z
UID:ATEvent-faf60b36613843ba85588d070af89778
SEQUENCE:0
LAST-MODIFIED:20181017T094322Z
SUMMARY:Spazio progettato vs Spazio vissuto
DESCRIPTION:Un confronto interdisciplinare sui luoghi della quotidiani
 tà
LOCATION:Aula A11\, Polo degli Adelardi - via degli Adelardi 33\, Ferrara
PRIORITY:3
TRANSP:0
END:VEVENT
END:VCALENDAR
