BEGIN:VCALENDAR
PRODID:-//AT Content Types//AT Event//EN
VERSION:2.0
METHOD:PUBLISH
BEGIN:VEVENT
DTSTAMP:20260419T155050Z
CREATED:20181120T093502Z
UID:ATEvent-9d69e4b415c14543b7debcbf7c7057ca
LAST-MODIFIED:20181120T093636Z
SUMMARY:Rumori di fondo: narrare storie di vita in commissione territoriale fra equivoci e noncuranza
DTSTART:20181126T151500Z
DTEND:20181126T163000Z
DESCRIPTION:Presentazione dello studio di Antropologia culturale condo
 tto da Enrico Gallerani\, interverrà Giuseppe Scandurra (Università 
 di Ferrara)
LOCATION:Aula A11\, Polo degli Adelardi\, via degli Adelardi 33\, Ferrara
CLASS:PUBLIC
END:VEVENT
END:VCALENDAR
