BEGIN:VCALENDAR
PRODID:-//AT Content Types//AT Event//EN
VERSION:2.0
METHOD:PUBLISH
BEGIN:VEVENT
DTSTAMP:20260419T153558Z
CREATED:20180517T083040Z
UID:ATEvent-bc754e9e4c6e4146bb215d452af3272e
LAST-MODIFIED:20180528T071838Z
SUMMARY:Quando la strada non c'è\, inventala!
DTSTART:20180628T070000Z
DTEND:20180702T170000Z
DESCRIPTION:Formazione in cammino sulla diversità per le professioni 
 di cura - Scuola estiva itinerante
LOCATION:Pennabilli - Montefeltro
CLASS:PUBLIC
END:VEVENT
END:VCALENDAR
