BEGIN:VCALENDAR
PRODID:-//AT Content Types//AT Event//EN
VERSION:1.0
BEGIN:VEVENT
DTSTART:20210922T160000Z
DTEND:20210929T180000Z
DCREATED:20210908T092415Z
UID:ATEvent-dc52baf5796f486baa38a59d05160d49
SEQUENCE:0
LAST-MODIFIED:20210908T092415Z
SUMMARY:Prendi Fiato!
DESCRIPTION:Seminario sulla teoria e la pratica di una respirazione co
 rretta e consapevole per il benessere psico-fisico \n\nMercoledì 22 s
 ettembre p.v.\nMercoledì 29 settembre p.v.
LOCATION:Sede CSV Terre Estensi Via Ferrariola 44124 Ferrara
PRIORITY:3
TRANSP:0
END:VEVENT
END:VCALENDAR
