BEGIN:VCALENDAR
PRODID:-//AT Content Types//AT Event//EN
VERSION:2.0
METHOD:PUBLISH
BEGIN:VEVENT
DTSTAMP:20260419T154618Z
CREATED:20210114T092156Z
UID:ATEvent-f56022313ea44c6294612986bc1d9667
LAST-MODIFIED:20210114T092158Z
SUMMARY:Pin Pin Korori\, l’ultima libertà
DTSTART:20210128T163000Z
DTEND:20210128T183000Z
DESCRIPTION:Webinar condotto dalla prof.ssa Daniela Leban nell’ambit
 o del ciclo di webinar gratuiti sul lutto promossi da “Uno sguardo a
 l cielo”.\n\nIscrizione preferibilmente entro il 28 Gennaio h 12.00
LOCATION:Online
CONTACT:Alessandra Chiaromonte\, conversazionilutto@unife.it
CLASS:PUBLIC
END:VEVENT
END:VCALENDAR
