BEGIN:VCALENDAR
PRODID:-//AT Content Types//AT Event//EN
VERSION:2.0
METHOD:PUBLISH
BEGIN:VEVENT
DTSTAMP:20260419T154742Z
CREATED:20181107T095159Z
UID:ATEvent-35afb1d454b64653b7331c3de4ed3886
LAST-MODIFIED:20181107T095200Z
SUMMARY:Nelle terre del Delta del Po - Un sublime mappamondo
DTSTART:20181112T151500Z
DTEND:20181112T180000Z
DESCRIPTION:Per il ciclo di seminari su Letteratura e Città saranno p
 roiettati "Nelle terre del Delta del Po" (1976) e "Un sublime mappamon
 do" (1977)\, di Massimo Sani
LOCATION:Aula A11\, Polo degli Adelardi\, via degli Adelardi 33
CONTACT:Giuseppe Scandurra\, giuseppe.scandurra@unife.it
CLASS:PUBLIC
END:VEVENT
END:VCALENDAR
