BEGIN:VCALENDAR
PRODID:-//AT Content Types//AT Event//EN
VERSION:2.0
METHOD:PUBLISH
BEGIN:VEVENT
DTSTAMP:20260419T153656Z
CREATED:20181025T154116Z
UID:ATEvent-f858eabd1ff443729972950b57222ff7
LAST-MODIFIED:20181025T154118Z
SUMMARY:Lo stadio come spazio denso.
DTSTART:20181029T151500Z
DTEND:20181029T180000Z
DESCRIPTION:Ricerca etnosemiotica sulle pratiche di fruizione allo Iac
 ovone di Taranto
CLASS:PUBLIC
END:VEVENT
END:VCALENDAR
