BEGIN:VCALENDAR
PRODID:-//AT Content Types//AT Event//EN
VERSION:2.0
METHOD:PUBLISH
BEGIN:VEVENT
DTSTAMP:20260419T153828Z
CREATED:20200907T143217Z
UID:ATEvent-1f86dbda28ed4c4889c41701105222fc
LAST-MODIFIED:20200907T143218Z
SUMMARY:Le comunità per minori: modelli teorici e strumenti operativi
DTSTART:20200907T143000Z
DTEND:20200907T143000Z
DESCRIPTION:Master a.a. 2019/2020\nIscrizione ai singoli moduli – Se
 ttembre 2020!
CONTACT:Alessandra Chiaromonte \, mastertutelaminori@unife.it
CLASS:PUBLIC
END:VEVENT
END:VCALENDAR
