BEGIN:VCALENDAR
PRODID:-//AT Content Types//AT Event//EN
VERSION:1.0
BEGIN:VEVENT
DTSTART:20200929T133000Z
DTEND:20200929T153000Z
DCREATED:20200916T075558Z
UID:ATEvent-996e88669bf741aca13a894e97811a0a
SEQUENCE:0
LAST-MODIFIED:20200916T075624Z
SUMMARY:La tutela dei minori attraverso la rete e il dialogo tra scuola e servizi sociali: ruoli\, responsabilità e risorse
DESCRIPTION:Seminario - a partecipazione gratuita! - tenuto dalle Dott
 .sse F. Gremigni  e M. Betti.
LOCATION:Webinar
PRIORITY:3
TRANSP:0
END:VEVENT
END:VCALENDAR
