BEGIN:VCALENDAR
PRODID:-//AT Content Types//AT Event//EN
VERSION:2.0
METHOD:PUBLISH
BEGIN:VEVENT
DTSTAMP:20260419T154910Z
CREATED:20210113T124729Z
UID:ATEvent-b469f5bb5b2842e7897dd7266d3d8c44
LAST-MODIFIED:20210113T124731Z
SUMMARY:La Shoah dei bambini: Il paradigma storico della negazione alla vita.
DTSTART:20201230T230000Z
DTEND:20201230T230000Z
DESCRIPTION:Seminario tenuto dal Prof. Franco Bonilauri\, storico dell
 ’arte e ebraista\, già Università  di Parma e già  Direttore  Mus
 eo ebraico di Bologna.\nIntervento nell'ambito del Master in tutela de
 i minori\, in collaborazione con il Progetto Culturale – Uno Sguardo
  al Cielo\, in occasione della Giornata della Memoria,
LOCATION:online
CONTACT:Alessandra Chiaromonte\, alessandra.chiaromonte@unife.it
CLASS:PUBLIC
END:VEVENT
END:VCALENDAR
