BEGIN:VCALENDAR
PRODID:-//AT Content Types//AT Event//EN
VERSION:2.0
METHOD:PUBLISH
BEGIN:VEVENT
DTSTAMP:20260419T153655Z
CREATED:20181120T094621Z
UID:ATEvent-41c358a260904e859290aec2136b232c
LAST-MODIFIED:20181120T094623Z
SUMMARY:La giustizia riparativa
DTSTART:20181201T130000Z
DTEND:20181201T180000Z
DESCRIPTION:Seminario tenuto nell'ambito del Master "Tutela\, diritti 
 e protezione dei minori"
LOCATION:Auditorium Santa Lucia\, via L. Ariosto 35\, Ferrara
CONTACT:mastertutelaminori@unife.it
CLASS:PUBLIC
END:VEVENT
END:VCALENDAR
