BEGIN:VCALENDAR
PRODID:-//AT Content Types//AT Event//EN
VERSION:1.0
BEGIN:VEVENT
DTSTART:20201013T133000Z
DTEND:20201013T153000Z
DCREATED:20201006T082641Z
UID:ATEvent-b95821ae2a034b158bea636da3c0daea
SEQUENCE:0
LAST-MODIFIED:20201006T082642Z
SUMMARY:L’allontanamento di un minore attraverso l’ art. 403: quale collaborazione possibile tra scuola e servizi sociali?
DESCRIPTION:Relatrici: F. Gremigni\, M. Betti\n\nPartecipazione gratui
 ta!
LOCATION:Webinar
PRIORITY:3
TRANSP:0
END:VEVENT
END:VCALENDAR
