BEGIN:VCALENDAR
PRODID:-//AT Content Types//AT Event//EN
VERSION:2.0
METHOD:PUBLISH
BEGIN:VEVENT
DTSTAMP:20260419T153456Z
CREATED:20181120T094014Z
UID:ATEvent-6ed8c23b52084449850c32fe2ec856d7
LAST-MODIFIED:20181120T094014Z
SUMMARY:Industria e quartieri. Operai a Ferrara
DTSTART:20181126T164000Z
DTEND:20181126T180000Z
DESCRIPTION:Presentazione del lavoro in Sociologia urbana di Domenico 
 Lugas\, interverrà Giuseppe Scandurra (Università di Ferrara)
LOCATION:Aula A11\, Polo degli Adelardi\, via degli Adelardi 33\, Ferrara
CLASS:PUBLIC
END:VEVENT
END:VCALENDAR
