BEGIN:VCALENDAR
PRODID:-//AT Content Types//AT Event//EN
VERSION:1.0
BEGIN:VEVENT
DTSTART:20181201T080000Z
DTEND:20181201T120000Z
DCREATED:20181120T095152Z
UID:ATEvent-be4a6b3dd7304ba2b58446a5708d9738
SEQUENCE:0
LAST-MODIFIED:20181120T095152Z
SUMMARY:Il sogno dell'eternità: il necroforo tra imprevedibilità e rito
DESCRIPTION:II appuntamento della VII Edizione del Progetto Culturale 
 "Uno Sguardo al cielo. Percorso di avvicinamento all’elaborazione de
 l lutto".
LOCATION:Auditorium Santa Lucia\, via L. Ariosto 35\, Ferrara
PRIORITY:3
TRANSP:0
END:VEVENT
END:VCALENDAR
