BEGIN:VCALENDAR
PRODID:-//AT Content Types//AT Event//EN
VERSION:2.0
METHOD:PUBLISH
BEGIN:VEVENT
DTSTAMP:20260419T154910Z
CREATED:20181010T093000Z
UID:ATEvent-e0340db30fa54999a50f2d053ab8109f
LAST-MODIFIED:20181010T093000Z
SUMMARY:Il sentimento del ludico nella letteratura per ragazzi: un gioco cognitivo nell'emozionale
DTSTART:20181022T120000Z
DTEND:20181022T170000Z
LOCATION:Aula A12\, via degli Adelardi - Dipartimento di Studi umanistici
CLASS:PUBLIC
END:VEVENT
END:VCALENDAR
