BEGIN:VCALENDAR
PRODID:-//AT Content Types//AT Event//EN
VERSION:2.0
METHOD:PUBLISH
BEGIN:VEVENT
DTSTAMP:20260419T154949Z
CREATED:20181008T134148Z
UID:ATEvent-015648410b8d4ea4ba71c4fbdf656c41
LAST-MODIFIED:20181008T134222Z
SUMMARY:Il sentimento del ludico nella letteratura per ragazzi: cognitività e stili di apprendimento
DTSTART:20181015T120000Z
DTEND:20181015T170000Z
LOCATION:Aula A 12\, via degli Adelardi\, Dipartimento di studi umanistici
CLASS:PUBLIC
END:VEVENT
END:VCALENDAR
