BEGIN:VCALENDAR
PRODID:-//AT Content Types//AT Event//EN
VERSION:1.0
BEGIN:VEVENT
DTSTART:20190213T111000Z
DTEND:20190213T131000Z
DCREATED:20190212T092747Z
UID:ATEvent-27a7236531ed49b5a20658005dde5f84
SEQUENCE:0
LAST-MODIFIED:20190212T092800Z
SUMMARY:Il Giardino del mondo
LOCATION:Liceo Statale Carducci
PRIORITY:3
TRANSP:0
END:VEVENT
END:VCALENDAR
