BEGIN:VCALENDAR
PRODID:-//AT Content Types//AT Event//EN
VERSION:1.0
BEGIN:VEVENT
DTSTART:20180223T170000Z
DTEND:20180223T190000Z
DCREATED:20180222T150036Z
UID:ATEvent-cb4c315e9b00498f9007557663acd395
SEQUENCE:0
LAST-MODIFIED:20180222T150036Z
SUMMARY:I segreti delle madri
LOCATION:Libreria ISB + Libraccio\, Ferrara
PRIORITY:3
TRANSP:0
END:VEVENT
END:VCALENDAR
